BEGIN:VCALENDAR
VERSION:2.0
PRODID:-//wp-events-plugin.com//7.2.3.1//EN
TZID:Europe/Paris
X-WR-TIMEZONE:Europe/Paris
BEGIN:VEVENT
UID:13@harmoniesel.fr
DTSTART;TZID=Europe/Paris:20250929T143000
DTEND;TZID=Europe/Paris:20250929T170000
DTSTAMP:20250911T135238Z
URL:http://harmoniesel.fr/events/jeux-plaine-de-versailles-et-mediaspheres
 -2/
SUMMARY:Rencontre jeux
DESCRIPTION:Nous vous proposons un moment de détente avec le jeu Fast Foui
 lle\, jeu d'ambiance dynamique avec de la déduction\, du délire... et un
  peu de chance !\n\nPour pleinement profiter des échanges lors de ces sé
 ances\, il est nécessaire d'être au minimum 4 personnes.\nPour des raiso
 ns d'organisation\, il est indispensable de s'inscrire\, en envoyant un ma
 il à bureau@harmoniesel.fr au plus tard le 22 septembre.\n
ATTACH;FMTTYPE=image/jpeg:http://harmoniesel.fr/wp-content/uploads/2025/04
 /Jeu-Fast-Fouille.jpg
CATEGORIES:Rencontres
LOCATION:Salle du Jeu de Paume\, 13 avenue du grand canal \, Villepreux \, 
 78450\, France
X-APPLE-STRUCTURED-LOCATION;VALUE=URI;X-ADDRESS=13 avenue du grand canal \,
  Villepreux \, 78450\, France;X-APPLE-RADIUS=100;X-TITLE=Salle du Jeu de P
 aume:geo:0,0
END:VEVENT
BEGIN:VTIMEZONE
TZID:Europe/Paris
X-LIC-LOCATION:Europe/Paris
BEGIN:DAYLIGHT
DTSTART:20250330T030000
TZOFFSETFROM:+0100
TZOFFSETTO:+0200
TZNAME:CEST
END:DAYLIGHT
END:VTIMEZONE
END:VCALENDAR