BEGIN:VCALENDAR
VERSION:2.0
PRODID:-//wp-events-plugin.com//7.2.3.1//EN
TZID:Europe/Paris
X-WR-TIMEZONE:Europe/Paris
BEGIN:VEVENT
UID:15@harmoniesel.fr
DTSTART;TZID=Europe/Paris;VALUE=DATE:20250906
DTEND;TZID=Europe/Paris;VALUE=DATE:20250907
DTSTAMP:20250701T085053Z
URL:https://harmoniesel.fr/events/forum-des-associations/
SUMMARY:Forum des associations
DESCRIPTION:L'association HARMONIE SEL participe aux forums des association
 s des 3 communes :\n\nLes Clayes sous bois : place Charles de Gaulle\, à 
 l'Espace Philippe Noiret ainsi qu'au complexe sportif Thierry Gilardi\, de
  10h à 16h.\nPlaisir : parc du Château\, de 9h30 à 16h30\nVillepreux : 
 gymnase Alain-Mimoun\, de 10h à 16h\n\n\n\n\n\n&nbsp\;\n\n&nbsp\;\n\n\n\
 n\n\n&nbsp\;
ATTACH;FMTTYPE=image/jpeg:https://harmoniesel.fr/wp-content/uploads/2024/1
 1/Dessin-SEL2.jpg
CATEGORIES:Rencontres
END:VEVENT
BEGIN:VTIMEZONE
TZID:Europe/Paris
X-LIC-LOCATION:Europe/Paris
BEGIN:DAYLIGHT
DTSTART:20250330T030000
TZOFFSETFROM:+0100
TZOFFSETTO:+0200
TZNAME:CEST
END:DAYLIGHT
END:VTIMEZONE
END:VCALENDAR